BEGIN:VCALENDAR
VERSION:2.0
PRODID:-//www.casaofoceancounty.org//NONSGML kigkonsult.se iCalcreator 2.30
 .10//
CALSCALE:GREGORIAN
METHOD:PUBLISH
UID:2ee273b4-d05e-4fa6-ac65-40d36b989c7d
X-WR-CALDESC:The Annual Dining for a Cause Gala is going to be an amazing e
 vent. The evening celebration marks the end of a significant milestone yea
 r\, our 20th Anniversary.    \n\nMany thanks to Diane Turton and her amazi
 ng team at Diane Turton\, Realtors\, for supporting CASA of Ocean County a
 nd the amazing talent of NJ’s youth! For more information about auditions 
 and the contest\, visit www.TurtonTalentShow.com\n\nAll proceeds and funds
  we raise will be dedicated to the abused and neglected foster children we
  serve day-in and day-out at CASA of Ocean County. \n\n2025 GALA SPONSORS
 \nPlatinum Sponsors\nBe You Yoga\nFrancis Cable Systems\nManasquan Bank \n
 Gold Sponsors\nJohn Hill Insurance \nNew Jersey Resources\nBronze Sponsor
 \nFinancial Alternatives LLC \nThe Matus Law Group\n2 Chicks with Chocolat
 e\nEgan's Liquors \n\n\n\n\n2025 Superheroes:\nBurger 25\nCASA BOARD OF TR
 USTEES & OFFICERS\nKeller Williams Shore Properties\nNew Jersey Natural Ga
 s/New Jersey Resources \nOwen\, Little & Associates\, Inc. \nRotary Club o
 f Toms River\nWawa Foundation \n\n\n
X-WR-RELCALID:b88a19706ecdae21900bbe3d1b867700
X-WR-TIMEZONE:America/New_York
BEGIN:VTIMEZONE
TZID:America/New_York
BEGIN:STANDARD
TZNAME:EST
DTSTART:20251102T020000
TZOFFSETFROM:-0400
TZOFFSETTO:-0500
RDATE:20261101T020000
RDATE:20271107T020000
END:STANDARD
BEGIN:DAYLIGHT
TZNAME:EDT
DTSTART:20260308T020000
TZOFFSETFROM:-0500
TZOFFSETTO:-0400
RDATE:20270314T020000
RDATE:20280312T020000
END:DAYLIGHT
END:VTIMEZONE
BEGIN:VEVENT
UID:d614cf9c-d90a-4ff3-bc9b-c16da24d501f
DTSTAMP:20260419T142114Z
DESCRIPTION:The Annual Dining for a Cause Gala is going to be an amazing ev
 ent. The evening celebration marks the end of a significant milestone year
 \, our 20th Anniversary.    \n\nMany thanks to Diane Turton and her amazin
 g team at Diane Turton\, Realtors\, for supporting CASA of Ocean County an
 d the amazing talent of NJ’s youth! For more information about auditions a
 nd the contest\, visit www.TurtonTalentShow.com\n\nAll proceeds and funds 
 we raise will be dedicated to the abused and neglected foster children we 
 serve day-in and day-out at CASA of Ocean County. \n\n2025 GALA SPONSORS\n
 Platinum Sponsors\nBe You Yoga\nFrancis Cable Systems\nManasquan Bank \nGo
 ld Sponsors\nJohn Hill Insurance \nNew Jersey Resources\nBronze Sponsor\nF
 inancial Alternatives LLC \nThe Matus Law Group\n2 Chicks with Chocolate\n
 Egan's Liquors \n\n\n\n\n2025 Superheroes:\nBurger 25\nCASA BOARD OF TRUST
 EES & OFFICERS\nKeller Williams Shore Properties\nNew Jersey Natural Gas/N
 ew Jersey Resources \nOwen\, Little & Associates\, Inc. \nRotary Club of T
 oms River\nWawa Foundation \n\n\n
DTSTART;TZID=America/New_York:20261030T180000
DTEND;TZID=America/New_York:20261030T220000
LOCATION:Bay Head Yacht Club\, 111 Metcalfe Street\, Bay Head\, NJ 08742 US
SUMMARY:Dining For A Cause Gala
END:VEVENT
END:VCALENDAR
